BEGIN:VCALENDAR
VERSION:2.0
PRODID:-//ALKP.sk | Asociácia lektorov a kariérnych poradcov
CALSCALE:GREGORIAN
METHOD:PUBLISH
X-WR-CALNAME:ALKP.sk | Asociácia lektorov a kariérnych poradcov
X-ORIGINAL-URL:https://alkp.sk/aktivity/never-give-up-22-03-2018-ba/
X-WR-CALDESC:Never Give Up!, 22.03.2018, BA
BEGIN:VEVENT
DTSTART:20180322T090000
DTEND:20180322T160000
SUMMARY:Never Give Up!, 22.03.2018, BA
DESCRIPTION:
LOCATION: Bratislava
END:VEVENT
END:VCALENDAR
