BEGIN:VCALENDAR
VERSION:2.0
PRODID:-//ALKP.sk | Asociácia lektorov a kariérnych poradcov
CALSCALE:GREGORIAN
METHOD:PUBLISH
X-WR-CALNAME:ALKP.sk | Asociácia lektorov a kariérnych poradcov
X-ORIGINAL-URL:https://alkp.sk/aktivity/hodina-s-expertom-na-temu-najcastejsie-chyby-vo-vzdelavani-dospelych13-5-2026/
X-WR-CALDESC:Hodina s expertom na tému: Najčastejšie chyby vo vzdelávaní dospelých,13.5.2026
BEGIN:VEVENT
DTSTART:20260513T170000
DTEND:20260513T180000
SUMMARY:Hodina s expertom na tému: Najčastejšie chyby vo vzdelávaní dospelých,13.5.2026
DESCRIPTION:
LOCATION:online
END:VEVENT
END:VCALENDAR
