BEGIN:VCALENDAR
VERSION:2.0
PRODID:-//ALKP.sk | Asociácia lektorov a kariérnych poradcov
CALSCALE:GREGORIAN
METHOD:PUBLISH
X-WR-CALNAME:ALKP.sk | Asociácia lektorov a kariérnych poradcov
X-ORIGINAL-URL:https://alkp.sk/aktivity/skolenie-karierove-poradenstvo-6-10-2025inovacnevzdelavanie/
X-WR-CALDESC:Školenie Kariérové poradenstvo &#8211; inovačné vzdelávanie pre pedagogických a odborných zamestnancov, 6.10.2025 BA
BEGIN:VEVENT
DTSTART:20251006T080000
DTEND:20251104T160000
SUMMARY:Školenie Kariérové poradenstvo &#8211; inovačné vzdelávanie pre pedagogických a odborných zamestnancov, 6.10.2025 BA
DESCRIPTION:Príprava kariérových poradcov na výkon činnosti v oblasti prípravy žiakov na ich vstup na trh práce.
LOCATION:Bratislava
END:VEVENT
END:VCALENDAR
