BEGIN:VCALENDAR
VERSION:2.0
PRODID:-//ALKP.sk | Asociácia lektorov a kariérnych poradcov
CALSCALE:GREGORIAN
METHOD:PUBLISH
X-WR-CALNAME:ALKP.sk | Asociácia lektorov a kariérnych poradcov
X-ORIGINAL-URL:https://alkp.sk/aktivity/lektor-odborne-akreditovane-23-10-20-11-25-online/
X-WR-CALDESC:Lektor &#8211; odborné akreditované školenie 23.10. &#8211; 20.11.2025, ONLINE
BEGIN:VEVENT
DTSTART:20251023T080000
DTEND:20251120T160000
SUMMARY:Lektor &#8211; odborné akreditované školenie 23.10. &#8211; 20.11.2025, ONLINE
DESCRIPTION:
LOCATION:online
END:VEVENT
END:VCALENDAR
