BEGIN:VCALENDAR
VERSION:2.0
PRODID:-//ALKP.sk | Asociácia lektorov a kariérnych poradcov
CALSCALE:GREGORIAN
METHOD:PUBLISH
X-WR-CALNAME:ALKP.sk | Asociácia lektorov a kariérnych poradcov
X-ORIGINAL-URL:https://alkp.sk/aktivity/lektor-odborne-akreditovane-22-9-16-10-25/
X-WR-CALDESC:Lektor &#8211; odborné akreditované školenie 22.9. &#8211; 16.10.2025 BRATISLAVA
BEGIN:VEVENT
DTSTART:20250922T080000
DTEND:20251016T160000
SUMMARY:Lektor &#8211; odborné akreditované školenie 22.9. &#8211; 16.10.2025 BRATISLAVA
DESCRIPTION:
LOCATION:Bratislava
END:VEVENT
END:VCALENDAR
