BEGIN:VCALENDAR
VERSION:2.0
PRODID:-//ALKP.sk | Asociácia lektorov a kariérnych poradcov
CALSCALE:GREGORIAN
METHOD:PUBLISH
X-WR-CALNAME:ALKP.sk | Asociácia lektorov a kariérnych poradcov
X-ORIGINAL-URL:https://alkp.sk/aktivity/skolenie-karierove-poradenstvo-21-2-2025-inovacne-vzdelavanie-bratislava/
X-WR-CALDESC:Školenie Kariérové poradenstvo &#8211; inovačné vzdelávanie pre pedagogických a odborných zamestnancov, 21.2.2025 Bratislava
BEGIN:VEVENT
DTSTART:20250221T080000
DTEND:20250316T160000
SUMMARY:Školenie Kariérové poradenstvo &#8211; inovačné vzdelávanie pre pedagogických a odborných zamestnancov, 21.2.2025 Bratislava
DESCRIPTION:Príprava kariérových poradcov na výkon činnosti v oblasti prípravy žiakov na ich vstup na trh práce.
LOCATION:Bratislava
END:VEVENT
END:VCALENDAR
