BEGIN:VCALENDAR
VERSION:2.0
PRODID:-//ALKP.sk | Asociácia lektorov a kariérnych poradcov
CALSCALE:GREGORIAN
METHOD:PUBLISH
X-WR-CALNAME:ALKP.sk | Asociácia lektorov a kariérnych poradcov
X-ORIGINAL-URL:https://alkp.sk/aktivity/karierne-poradenstvo-vzdelavanie-akreditovane-msvvas-sr-90-hodin-21-2-2025bratislava/
X-WR-CALDESC:Kariérne poradenstvo &#8211; vzdelávanie akreditované MŠVVaŠ SR &#8211; 90 hodín, 21.2.2025 Bratislava
BEGIN:VEVENT
DTSTART:20250221T080000
DTEND:20250316T160000
SUMMARY:Kariérne poradenstvo &#8211; vzdelávanie akreditované MŠVVaŠ SR &#8211; 90 hodín, 21.2.2025 Bratislava
DESCRIPTION:
LOCATION:Bratislava
END:VEVENT
END:VCALENDAR
