BEGIN:VCALENDAR
VERSION:2.0
PRODID:-//ALKP.sk | Asociácia lektorov a kariérnych poradcov
CALSCALE:GREGORIAN
METHOD:PUBLISH
X-WR-CALNAME:ALKP.sk | Asociácia lektorov a kariérnych poradcov
X-ORIGINAL-URL:https://alkp.sk/aktivity/skolenie-karierove-poradenstvo-11-4-2025inovacneonline/
X-WR-CALDESC:Školenie Kariérové poradenstvo &#8211; inovačné vzdelávanie pre pedagogických a odborných zamestnancov, 11.4.2025 Online
BEGIN:VEVENT
DTSTART:20250411T080000
DTEND:20250518T160000
SUMMARY:Školenie Kariérové poradenstvo &#8211; inovačné vzdelávanie pre pedagogických a odborných zamestnancov, 11.4.2025 Online
DESCRIPTION:Príprava kariérových poradcov na výkon činnosti v oblasti prípravy žiakov na ich vstup na trh práce.
LOCATION:online
END:VEVENT
END:VCALENDAR
