BEGIN:VCALENDAR
VERSION:2.0
PRODID:-//ALKP.sk | Asociácia lektorov a kariérnych poradcov
CALSCALE:GREGORIAN
METHOD:PUBLISH
X-WR-CALNAME:ALKP.sk | Asociácia lektorov a kariérnych poradcov
X-ORIGINAL-URL:https://alkp.sk/aktivity/lektor-odborne-akreditovane-skolenie17-2-2025ba/
X-WR-CALDESC:Lektor &#8211; odborné akreditované školenie 17.2. &#8211; 20.3.2025 Bratislava
BEGIN:VEVENT
DTSTART:20250217T090000
DTEND:20250320T170000
SUMMARY:Lektor &#8211; odborné akreditované školenie 17.2. &#8211; 20.3.2025 Bratislava
DESCRIPTION:
LOCATION:Bratislava
END:VEVENT
END:VCALENDAR
