BEGIN:VCALENDAR
VERSION:2.0
PRODID:-//ALKP.sk | Asociácia lektorov a kariérnych poradcov
CALSCALE:GREGORIAN
METHOD:PUBLISH
X-WR-CALNAME:ALKP.sk | Asociácia lektorov a kariérnych poradcov
X-ORIGINAL-URL:https://alkp.sk/aktivity/karierne-poradenstvo-vzdelavanie-akreditovane-msvvas-sr-90-hodin-25-7-2025banskabystrica/
X-WR-CALDESC:Kariérne poradenstvo &#8211; vzdelávanie akreditované MŠVVaŠ SR &#8211; 90 hodín, 25.7.2025 BB
BEGIN:VEVENT
DTSTART:20250725T080000
DTEND:20250824T160000
SUMMARY:Kariérne poradenstvo &#8211; vzdelávanie akreditované MŠVVaŠ SR &#8211; 90 hodín, 25.7.2025 BB
DESCRIPTION:
LOCATION:Banská Bystrica
END:VEVENT
END:VCALENDAR
