BEGIN:VCALENDAR
VERSION:2.0
PRODID:-//ALKP.sk | Asociácia lektorov a kariérnych poradcov
CALSCALE:GREGORIAN
METHOD:PUBLISH
X-WR-CALNAME:ALKP.sk | Asociácia lektorov a kariérnych poradcov
X-ORIGINAL-URL:https://alkp.sk/aktivity/zoom-pre-skolitelov/
X-WR-CALDESC:Zoom pre školiteľov
BEGIN:VEVENT
DTSTART:20210907T140000
DTEND:20210908T163000
SUMMARY:Zoom pre školiteľov
DESCRIPTION:
LOCATION:online kurz
END:VEVENT
END:VCALENDAR
