BEGIN:VCALENDAR
VERSION:2.0
PRODID:-//ALKP.sk | Asociácia lektorov a kariérnych poradcov
CALSCALE:GREGORIAN
METHOD:PUBLISH
X-WR-CALNAME:ALKP.sk | Asociácia lektorov a kariérnych poradcov
X-ORIGINAL-URL:https://alkp.sk/aktivity/lektor-odborne-akreditovane-skolenie-11-3-2025-b-bystrica/
X-WR-CALDESC:Lektor &#8211; odborné akreditované školenie 11.3.-16.4.2025 B. Bystrica
BEGIN:VEVENT
DTSTART:20250311T080000
DTEND:20250416T160000
SUMMARY:Lektor &#8211; odborné akreditované školenie 11.3.-16.4.2025 B. Bystrica
DESCRIPTION:
LOCATION:Banská Bystrica
END:VEVENT
END:VCALENDAR
